BEGIN:VCALENDAR
PRODID:-//eluceo/ical//2.0/EN
VERSION:2.0
CALSCALE:GREGORIAN
BEGIN:VEVENT
UID:73f299ee3fce6e0869089864d9fe6b0a
DTSTAMP:20260422T124241Z
SUMMARY:UJA Women's Philanthropy: Financial Literacy Series
DESCRIPTION:UJA Federation of Greater Toronto\nJewish Toronto Calendar\nhtt
 ps://jewishtoronto.com/calendar/uja-womens-philanthropy-financial-literacy
 -series\n\nStay tuned for more details 
DTSTART;TZID=America/Toronto:20201005T000000
DTEND;TZID=America/Toronto:20201005T000000
END:VEVENT
END:VCALENDAR
