BEGIN:VCALENDAR
PRODID:-//eluceo/ical//2.0/EN
VERSION:2.0
CALSCALE:GREGORIAN
BEGIN:VEVENT
UID:19aadaf216f4884136190a36e756d208
DTSTAMP:20260425T144248Z
SUMMARY:UJA Women's Philanthropy Event
DESCRIPTION:UJA Federation of Greater Toronto\nJewish Toronto Calendar\nhtt
 ps://jewishtoronto.com/calendar/uja-womens-philanthropy-event\n\nUJA Women
 's Philanthropy Event
DTSTART;TZID=America/Toronto:20140909T190000
DTEND;TZID=America/Toronto:20140909T210000
END:VEVENT
END:VCALENDAR
