BEGIN:VCALENDAR
PRODID:-//eluceo/ical//2.0/EN
VERSION:2.0
CALSCALE:GREGORIAN
BEGIN:VEVENT
UID:228c617a1cd54cb0eda1587c22107660
DTSTAMP:20260421T092325Z
SUMMARY:UJA - Women's Philanthropy Day (TBC)
DESCRIPTION:UJA Federation of Greater Toronto\nJewish Toronto Calendar\nhtt
 ps://jewishtoronto.com/calendar/uja-womens-philanthropy-day-tbc\n\nUJA - W
 omen's Philanthropy Day (TBC)
DTSTART;TZID=America/Toronto:20170913T005500
DTEND;TZID=America/Toronto:20170913T235500
END:VEVENT
END:VCALENDAR
