BEGIN:VCALENDAR
PRODID:-//eluceo/ical//2.0/EN
VERSION:2.0
CALSCALE:GREGORIAN
BEGIN:VEVENT
UID:0e101ae3dec74311e80f4a21263930e5
DTSTAMP:20260420T011334Z
SUMMARY:UJA Women's Philanthropy Campaign 2018 Installation
DESCRIPTION:UJA Federation of Greater Toronto\nJewish Toronto Calendar\nhtt
 ps://jewishtoronto.com/calendar/uja-womens-philanthropy-campaign-2018-inst
 allation-1512681939\n\nInstallation of Executive for Women's Philanthropy\
 , Campaign 2018\, UJA Federation
DTSTART;TZID=America/Toronto:20180605T190000
DTEND;TZID=America/Toronto:20180605T220000
END:VEVENT
END:VCALENDAR
