BEGIN:VCALENDAR
PRODID:-//eluceo/ical//2.0/EN
VERSION:2.0
CALSCALE:GREGORIAN
BEGIN:VEVENT
UID:57010b287fd482a223058fc21d2a9a0c
DTSTAMP:20260422T223104Z
SUMMARY:UJA Women's Philanthropy Business & Professional Women's Networking
  Event
DESCRIPTION:UJA Federation of Greater Toronto\nJewish Toronto Calendar\nhtt
 ps://jewishtoronto.com/calendar/uja-womens-philanthropy-business--professi
 onal-womens-networking-event-1564502091\n\nWomen's Networking Event
DTSTART;TZID=America/Toronto:20190925T173000
DTEND;TZID=America/Toronto:20190925T193000
END:VEVENT
END:VCALENDAR
