BEGIN:VCALENDAR
PRODID:-//eluceo/ical//2.0/EN
VERSION:2.0
CALSCALE:GREGORIAN
BEGIN:VEVENT
UID:18636f25b61ba05395859d82b80af5e4
DTSTAMP:20260421T165839Z
SUMMARY:UJA Women’s Philanthropy  Speakers Lab Private Event Invitation O
 nly
DESCRIPTION:UJA Federation of Greater Toronto\nJewish Toronto Calendar\nhtt
 ps://jewishtoronto.com/calendar/uja-womens-philanthropy--speakers-lab-priv
 ate-event-invitation-only-1564670082\n\nUJA Women’s Philanthropy Speaker
 s Lab
DTSTART;TZID=America/Toronto:20190925T173000
DTEND;TZID=America/Toronto:20190925T203000
END:VEVENT
END:VCALENDAR
