BEGIN:VCALENDAR
PRODID:-//eluceo/ical//2.0/EN
VERSION:2.0
CALSCALE:GREGORIAN
BEGIN:VEVENT
UID:3f9f4b6928a0577e7986a8b429e4290a
DTSTAMP:20260423T020053Z
SUMMARY:UJA Women's Philanthopy & Foundation Financial Literacy Series: Mar
 ch
DESCRIPTION:UJA Federation of Greater Toronto\nJewish Toronto Calendar\nhtt
 ps://jewishtoronto.com/calendar/uja-womens-philanthopy-foundation-financia
 l-literacy-series-march\n\nDiscussing Topics related to Financial Literacy
  
DTSTART;TZID=America/Toronto:20210311T120000
DTEND;TZID=America/Toronto:20210311T140000
END:VEVENT
END:VCALENDAR
