BEGIN:VCALENDAR
PRODID:-//eluceo/ical//2.0/EN
VERSION:2.0
CALSCALE:GREGORIAN
BEGIN:VEVENT
UID:3a0456e32d636254eb7ad2dba406c5eb
DTSTAMP:20260420T010014Z
SUMMARY:UJA Women’s ORA Event – Step Up Private Event
DESCRIPTION:UJA Federation of Greater Toronto\nJewish Toronto Calendar\nhtt
 ps://jewishtoronto.com/calendar/uja-womens-ora-event--step-up-private-even
 t-1565639525\n\nUJA Women’s ORA Event – Step Up Private Event
DTSTART;TZID=America/Toronto:20190913T130000
DTEND;TZID=America/Toronto:20190913T150000
END:VEVENT
END:VCALENDAR
