BEGIN:VCALENDAR
PRODID:-//eluceo/ical//2.0/EN
VERSION:2.0
CALSCALE:GREGORIAN
BEGIN:VEVENT
UID:ade9ac3d6b0b1d21863ce65f23b38598
DTSTAMP:20260422T105526Z
SUMMARY:UJA Walk with Israel
DESCRIPTION:UJA Federation of Greater Toronto\nJewish Toronto Calendar\nhtt
 ps://jewishtoronto.com/calendar/uja-walk-with-israel-1506960276\n\nVisit W
 alkwithIsrael.com\n\n \n\nCELEBRATE ISRAEL @ 70\, JOIN US FOR THE WALK WI
 TH ISRAEL OR PARTICIPATE IN THE 8K RUN WITH ISRAEL\n\nLong before the stat
 e of Israel was ever established United Jewish Appeal and the Jewish commu
 nity in Toronto was working towards its creation\, sharing an unbreakable 
 bond with the land and its people. As Israel celebrates its 70th birthday\
 , UJA celebrates our collaborative work with municipalities\, private foun
 dations\, philanthropists and government organizati...
DTSTART;TZID=America/Toronto:20180527T090000
DTEND;TZID=America/Toronto:20180527T170000
END:VEVENT
END:VCALENDAR
