BEGIN:VCALENDAR
PRODID:-//eluceo/ical//2.0/EN
VERSION:2.0
CALSCALE:GREGORIAN
BEGIN:VEVENT
UID:de70315095072e1635768493f6f8dc36
DTSTAMP:20260420T150311Z
SUMMARY:UJA | Uplifting Downtown at TD
DESCRIPTION:UJA Federation of Greater Toronto\nJewish Toronto Calendar\nhtt
 ps://jewishtoronto.com/calendar/uja-uplifting-downtown12\n\nThis is a mont
 hly UJA Baystreet Lunch and Learn series with Rabbi Rafi Lipner. \n\nTo r
 egister for the event\, please click here.\n\nRSVP is required. 
DTSTART;TZID=America/Toronto:20241211T000000
DTEND;TZID=America/Toronto:20241211T235959
END:VEVENT
END:VCALENDAR
