BEGIN:VCALENDAR
PRODID:-//eluceo/ical//2.0/EN
VERSION:2.0
CALSCALE:GREGORIAN
BEGIN:VEVENT
UID:fdd52186b1d2d36dd304e0aca4ba5b59
DTSTAMP:20260421T102316Z
SUMMARY:UJA Unlocking Your Digital Power
DESCRIPTION:UJA Federation of Greater Toronto\nJewish Toronto Calendar\nhtt
 ps://jewishtoronto.com/calendar/uja-unlocking-your-digital-power\n\nDetail
 s to follow. 
DTSTART;TZID=America/Toronto:20231127T190000
DTEND;TZID=America/Toronto:20231127T210000
END:VEVENT
END:VCALENDAR
