BEGIN:VCALENDAR
PRODID:-//eluceo/ical//2.0/EN
VERSION:2.0
CALSCALE:GREGORIAN
BEGIN:VEVENT
UID:44d9767b7f45376eab9ace5b442bd415
DTSTAMP:20260421T124217Z
SUMMARY:UJA Toronto Southern Hospitality
DESCRIPTION:UJA Federation of Greater Toronto\nJewish Toronto Calendar\nhtt
 ps://jewishtoronto.com/calendar/uja-toronto-southern-hospitality-156822815
 7\n\nUJA TORONTO SOUTHERN HOSPITALITY
DTSTART;TZID=America/Toronto:20200208T184000
DTEND;TZID=America/Toronto:20200208T235959
END:VEVENT
END:VCALENDAR
