BEGIN:VCALENDAR
PRODID:-//eluceo/ical//2.0/EN
VERSION:2.0
CALSCALE:GREGORIAN
BEGIN:VEVENT
UID:4decd2b94ee26872f91037bd7fb358b2
DTSTAMP:20260421T073210Z
SUMMARY:UJA Top Gifts Southern Hospitality
DESCRIPTION:UJA Federation of Greater Toronto\nJewish Toronto Calendar\nhtt
 ps://jewishtoronto.com/calendar/uja-top-gifts-southern-hospitality-1505420
 421\n\nPrivate event
DTSTART;TZID=America/Toronto:20180206T090000
DTEND;TZID=America/Toronto:20180206T235500
END:VEVENT
END:VCALENDAR
