BEGIN:VCALENDAR
PRODID:-//eluceo/ical//2.0/EN
VERSION:2.0
CALSCALE:GREGORIAN
BEGIN:VEVENT
UID:7c9df52663671500706e576379f0c2df
DTSTAMP:20260420T231935Z
SUMMARY:UJA Top Gifts Dinner
DESCRIPTION:UJA Federation of Greater Toronto\nJewish Toronto Calendar\nhtt
 ps://jewishtoronto.com/calendar/uja-top-gifts-dinner-1505420974\n\nPrivate
  Event
DTSTART;TZID=America/Toronto:20180515T170000
DTEND;TZID=America/Toronto:20180515T200000
END:VEVENT
END:VCALENDAR
