BEGIN:VCALENDAR
PRODID:-//eluceo/ical//2.0/EN
VERSION:2.0
CALSCALE:GREGORIAN
BEGIN:VEVENT
UID:54dc5e7704dadb298c112543c3ad861e
DTSTAMP:20260421T142708Z
SUMMARY:UJA Top Gifts Dinner
DESCRIPTION:UJA Federation of Greater Toronto\nJewish Toronto Calendar\nhtt
 ps://jewishtoronto.com/calendar/uja-top-gifts-dinner\n\nTop gifts dinner
DTSTART;TZID=America/Toronto:20140521T173000
DTEND;TZID=America/Toronto:20140521T213000
END:VEVENT
END:VCALENDAR
