BEGIN:VCALENDAR
PRODID:-//eluceo/ical//2.0/EN
VERSION:2.0
CALSCALE:GREGORIAN
BEGIN:VEVENT
UID:5519322bd9027d21e1e210ba2c438671
DTSTAMP:20260423T192423Z
SUMMARY:UJA - The 15\,000 kid question...how to engage young families in To
 ronto
DESCRIPTION:UJA Federation of Greater Toronto\nJewish Toronto Calendar\nhtt
 ps://jewishtoronto.com/calendar/uja-the-15000-kid-questionhow-to-engage-yo
 ung-families-in-toronto\n\nTBD
DTSTART;TZID=America/Toronto:20161205T083000
DTEND;TZID=America/Toronto:20161205T235500
END:VEVENT
END:VCALENDAR
