BEGIN:VCALENDAR
PRODID:-//eluceo/ical//2.0/EN
VERSION:2.0
CALSCALE:GREGORIAN
BEGIN:VEVENT
UID:341859f7d0fa693d0b1cff23a459e796
DTSTAMP:20260424T075804Z
SUMMARY:UJA Telethons
DESCRIPTION:UJA Federation of Greater Toronto\nJewish Toronto Calendar\nhtt
 ps://jewishtoronto.com/calendar/uja-telethons2\n\nUJA's Annual Telethons. 
 Details to follow. 
DTSTART;TZID=America/Toronto:20220913T173000
DTEND;TZID=America/Toronto:20220913T200000
END:VEVENT
END:VCALENDAR
