BEGIN:VCALENDAR
PRODID:-//eluceo/ical//2.0/EN
VERSION:2.0
CALSCALE:GREGORIAN
BEGIN:VEVENT
UID:01435658c6a2e36c213ce77a8d2b32ac
DTSTAMP:20260419T200104Z
SUMMARY:UJA - Telethons (TBC)
DESCRIPTION:UJA Federation of Greater Toronto\nJewish Toronto Calendar\nhtt
 ps://jewishtoronto.com/calendar/uja-telethons-tbc\n\nUJA - Telethons (TBC)
DTSTART;TZID=America/Toronto:20171112T000000
DTEND;TZID=America/Toronto:20171115T235500
END:VEVENT
END:VCALENDAR
