BEGIN:VCALENDAR
PRODID:-//eluceo/ical//2.0/EN
VERSION:2.0
CALSCALE:GREGORIAN
BEGIN:VEVENT
UID:58760c4655dc74fc9eed899b0715b6c0
DTSTAMP:20260426T012730Z
SUMMARY:UJA Telethons -  2018 Campaign
DESCRIPTION:UJA Federation of Greater Toronto\nJewish Toronto Calendar\nhtt
 ps://jewishtoronto.com/calendar/uja-telethons-2018-campaign\n\nUJA Campaig
 n - Telethons 2018
DTSTART;TZID=America/Toronto:20170911T080000
DTEND;TZID=America/Toronto:20170914T210000
END:VEVENT
END:VCALENDAR
