BEGIN:VCALENDAR
PRODID:-//eluceo/ical//2.0/EN
VERSION:2.0
CALSCALE:GREGORIAN
BEGIN:VEVENT
UID:92c561e810ecb39ecde01dff0c0aef2d
DTSTAMP:20260424T171217Z
SUMMARY:UJA Telethons
DESCRIPTION:UJA Federation of Greater Toronto\nJewish Toronto Calendar\nhtt
 ps://jewishtoronto.com/calendar/uja-telethons-1471354379\n\nUJA Telethon
DTSTART;TZID=America/Toronto:20161205T180000
DTEND;TZID=America/Toronto:20161207T180000
END:VEVENT
END:VCALENDAR
