BEGIN:VCALENDAR
PRODID:-//eluceo/ical//2.0/EN
VERSION:2.0
CALSCALE:GREGORIAN
BEGIN:VEVENT
UID:ec604fd3a001dd7b780c10ca0b45e583
DTSTAMP:20260421T164532Z
SUMMARY:UJA Synagogue Community of Practice & Food Drive
DESCRIPTION:UJA Federation of Greater Toronto\nJewish Toronto Calendar\nhtt
 ps://jewishtoronto.com/calendar/uja-synagogue-community-of-practice-food-d
 rive\n\nUJA Community Partner's Division presents Synagogue Community of P
 ractice and Food Drive. \n\nRegistration is required. 
DTSTART;TZID=America/Toronto:20211101T000000
DTEND;TZID=America/Toronto:20211101T235959
END:VEVENT
END:VCALENDAR
