BEGIN:VCALENDAR
PRODID:-//eluceo/ical//2.0/EN
VERSION:2.0
CALSCALE:GREGORIAN
BEGIN:VEVENT
UID:a5efc8ab20e15e1f953c04240ec65168
DTSTAMP:20260422T052850Z
SUMMARY:UJA | Super Sunday Telethon
DESCRIPTION:UJA Federation of Greater Toronto\nJewish Toronto Calendar\nhtt
 ps://jewishtoronto.com/calendar/uja-super-sunday-telethonsdasr\n\nUJA Supe
 r Sunday Telethons. Details to follow. 
DTSTART;TZID=America/Toronto:20240922T000000
DTEND;TZID=America/Toronto:20240922T235959
END:VEVENT
END:VCALENDAR
