BEGIN:VCALENDAR
PRODID:-//eluceo/ical//2.0/EN
VERSION:2.0
CALSCALE:GREGORIAN
BEGIN:VEVENT
UID:be76b97832d2da72d627b453ebcd1353
DTSTAMP:20260422T131700Z
SUMMARY:UJA Southern Hospitality | Lion of Judah Event
DESCRIPTION:UJA Federation of Greater Toronto\nJewish Toronto Calendar\nhtt
 ps://jewishtoronto.com/calendar/uja-southern-hospitality-lion-of-judah-eve
 nt\n\nThis is a private event. Details to follow. 
DTSTART;TZID=America/Toronto:20230203T000000
DTEND;TZID=America/Toronto:20230203T235959
END:VEVENT
END:VCALENDAR
