BEGIN:VCALENDAR
PRODID:-//eluceo/ical//2.0/EN
VERSION:2.0
CALSCALE:GREGORIAN
BEGIN:VEVENT
UID:d89df175076bfe34447454f3434c1302
DTSTAMP:20260420T080940Z
SUMMARY:UJA | Southern Hospitality Lion of Judah
DESCRIPTION:UJA Federation of Greater Toronto\nJewish Toronto Calendar\nhtt
 ps://jewishtoronto.com/calendar/uja-southern-hospitality-lion-of-judah\n\n
 UJA Toronto's Southern Hospitality Lion of Judah Event. \n\n\n 
DTSTART;TZID=America/Toronto:20260202T120000
DTEND;TZID=America/Toronto:20260202T140000
END:VEVENT
END:VCALENDAR
