BEGIN:VCALENDAR
PRODID:-//eluceo/ical//2.0/EN
VERSION:2.0
CALSCALE:GREGORIAN
BEGIN:VEVENT
UID:082b7dca78b601145b4d91293349b42d
DTSTAMP:20260425T135225Z
SUMMARY:UJA Southern Hospitality | Community Event
DESCRIPTION:UJA Federation of Greater Toronto\nJewish Toronto Calendar\nhtt
 ps://jewishtoronto.com/calendar/uja-southern-hospitality-community-event\n
 \nDetails to follow. 
DTSTART;TZID=America/Toronto:20230205T183000
DTEND;TZID=America/Toronto:20230205T210000
END:VEVENT
END:VCALENDAR
