BEGIN:VCALENDAR
PRODID:-//eluceo/ical//2.0/EN
VERSION:2.0
CALSCALE:GREGORIAN
BEGIN:VEVENT
UID:47e0cb228bccd9f7ef0dfbd5b31fadde
DTSTAMP:20260421T113637Z
SUMMARY:UJA ShinShinim Zikaron Basalon with holocaust survivor Stefania Sit
 bon
DESCRIPTION:UJA Federation of Greater Toronto\nJewish Toronto Calendar\nhtt
 ps://jewishtoronto.com/calendar/uja-shinshinim-zikaron-basalon-with-holoca
 ust-survivor-stefania-sitbon\n\nTo RSVP or for more information please rea
 ch out to Yuval Cohen ycohen@ujafed.org
DTSTART;TZID=America/Toronto:20230416T140000
DTEND;TZID=America/Toronto:20230416T160000
END:VEVENT
END:VCALENDAR
