BEGIN:VCALENDAR
PRODID:-//eluceo/ical//2.0/EN
VERSION:2.0
CALSCALE:GREGORIAN
BEGIN:VEVENT
UID:6b769fac2f45f9f5263731eee0bf98a9
DTSTAMP:20260423T182308Z
SUMMARY:UJA Real Estate Event
DESCRIPTION:UJA Federation of Greater Toronto\nJewish Toronto Calendar\nhtt
 ps://jewishtoronto.com/calendar/uja-real-estate-event\n\nHome of Howard So
 kolowski & Linda Frum
DTSTART;TZID=America/Toronto:20140529T180000
DTEND;TZID=America/Toronto:20140529T210000
END:VEVENT
END:VCALENDAR
