BEGIN:VCALENDAR
PRODID:-//eluceo/ical//2.0/EN
VERSION:2.0
CALSCALE:GREGORIAN
BEGIN:VEVENT
UID:08029c4978667f511474d2a3f7d89df3
DTSTAMP:20260420T071222Z
SUMMARY:UJA: Real Estate Division Signature Event Film Feature
DESCRIPTION:UJA Federation of Greater Toronto\nJewish Toronto Calendar\nhtt
 ps://jewishtoronto.com/calendar/uja-real-estate-division-signature-event\n
 \nExclusive Flim Feature of Shelter -produced and directed by Ron Chapman
  \n\nYou can join the event here: \n\nhttps://jewishtoronto.com/events/r
 eal-estate-signature-event-shelter-livestream?utm_source=eblast&utm_medium
 =email&utm_campaign=05-20-21\n\n 
DTSTART;TZID=America/Toronto:20210520T193000
DTEND;TZID=America/Toronto:20210520T213000
END:VEVENT
END:VCALENDAR
