BEGIN:VCALENDAR
PRODID:-//eluceo/ical//2.0/EN
VERSION:2.0
CALSCALE:GREGORIAN
BEGIN:VEVENT
UID:8728916497ca24c8b98bbd12a436bbd8
DTSTAMP:20260425T163928Z
SUMMARY:UJA Professional Women's Event- Uptown
DESCRIPTION:UJA Federation of Greater Toronto\nJewish Toronto Calendar\nhtt
 ps://jewishtoronto.com/calendar/uja-professional-womens-event--uptown-1579
 010442\n\nUJA Professional Women's Event- Uptown
DTSTART;TZID=America/Toronto:20200506T180000
DTEND;TZID=America/Toronto:20200506T200000
END:VEVENT
END:VCALENDAR
