BEGIN:VCALENDAR
PRODID:-//eluceo/ical//2.0/EN
VERSION:2.0
CALSCALE:GREGORIAN
BEGIN:VEVENT
UID:3ed84041b073717a69a8280dafc3c2f1
DTSTAMP:20260423T140305Z
SUMMARY:UJA | Private Event
DESCRIPTION:UJA Federation of Greater Toronto\nJewish Toronto Calendar\nhtt
 ps://jewishtoronto.com/calendar/uja-private-event-aug-25\n\nUJA | Private 
 Event. 
DTSTART;TZID=America/Toronto:20250806T000000
DTEND;TZID=America/Toronto:20250806T235959
END:VEVENT
END:VCALENDAR
