BEGIN:VCALENDAR
PRODID:-//eluceo/ical//2.0/EN
VERSION:2.0
CALSCALE:GREGORIAN
BEGIN:VEVENT
UID:86c329a61fb921fc119bdeeff1cc2a8f
DTSTAMP:20260422T131621Z
SUMMARY:UJA presents: A Villa in the Jungle - Breakfast with Alon Ben David
DESCRIPTION:UJA Federation of Greater Toronto\nJewish Toronto Calendar\nhtt
 ps://jewishtoronto.com/calendar/uja-presents-a-villa-in-the-jungle---break
 fast-with-alon-ben-david-1550773294\n\nUJA presents: A Villa in the Jungle
  - Breakfast with Alon Ben David
DTSTART;TZID=America/Toronto:20190319T080000
DTEND;TZID=America/Toronto:20190319T100000
END:VEVENT
END:VCALENDAR
