BEGIN:VCALENDAR
PRODID:-//eluceo/ical//2.0/EN
VERSION:2.0
CALSCALE:GREGORIAN
BEGIN:VEVENT
UID:679004eeb4cedc7140778cf084fc44fe
DTSTAMP:20260420T064855Z
SUMMARY:UJA Presents - Links Fore Learning
DESCRIPTION:UJA Federation of Greater Toronto\nJewish Toronto Calendar\nhtt
 ps://jewishtoronto.com/calendar/uja-presents---links-fore-learning-1550610
 448\n\nTee up for UJA Presents - Links Fore Learning.
DTSTART;TZID=America/Toronto:20190812T093000
DTEND;TZID=America/Toronto:20190812T180000
END:VEVENT
END:VCALENDAR
