BEGIN:VCALENDAR
PRODID:-//eluceo/ical//2.0/EN
VERSION:2.0
CALSCALE:GREGORIAN
BEGIN:VEVENT
UID:97a1823b63b0c2ce7a74c3e616a668bb
DTSTAMP:20260425T193903Z
SUMMARY:UJA Past Chairs Council (PCC) Meeting Private Event
DESCRIPTION:UJA Federation of Greater Toronto\nJewish Toronto Calendar\nhtt
 ps://jewishtoronto.com/calendar/uja-past-chairs-council-pcc-meeting-privat
 e-event-1569422924\n\nUJA Past Chairs Council (PCC) Meeting Private Event
DTSTART;TZID=America/Toronto:20191125T180000
DTEND;TZID=America/Toronto:20191125T200000
END:VEVENT
END:VCALENDAR
