BEGIN:VCALENDAR
PRODID:-//eluceo/ical//2.0/EN
VERSION:2.0
CALSCALE:GREGORIAN
BEGIN:VEVENT
UID:21e08e23f5779d3209c1cc560de49d9c
DTSTAMP:20260421T090533Z
SUMMARY:UJA | PAC Seminar
DESCRIPTION:UJA Federation of Greater Toronto\nJewish Toronto Calendar\nhtt
 ps://jewishtoronto.com/calendar/uja-pac-seminarrrrr\n\nPlease join us at t
 he Jewish Foundation’s upcoming Professional Advisory Committee breakfas
 t and seminar to hear from expert speakers on a variety of topics related 
 to real estate in Canada and the United States.
DTSTART;TZID=America/Toronto:20240522T083000
DTEND;TZID=America/Toronto:20240522T100000
END:VEVENT
END:VCALENDAR
