BEGIN:VCALENDAR
PRODID:-//eluceo/ical//2.0/EN
VERSION:2.0
CALSCALE:GREGORIAN
BEGIN:VEVENT
UID:7499baa83cd49a2d0d23fb80d1c87e31
DTSTAMP:20260424T021314Z
SUMMARY:UJA - PAC Seminar
DESCRIPTION:UJA Federation of Greater Toronto\nJewish Toronto Calendar\nhtt
 ps://jewishtoronto.com/calendar/uja-pac-seminar\n\nPAC Seminar
DTSTART;TZID=America/Toronto:20160607T073000
DTEND;TZID=America/Toronto:20160607T103000
END:VEVENT
END:VCALENDAR
