BEGIN:VCALENDAR
PRODID:-//eluceo/ical//2.0/EN
VERSION:2.0
CALSCALE:GREGORIAN
BEGIN:VEVENT
UID:eda8b8f624b386230c20f84206425b6f
DTSTAMP:20260421T100916Z
SUMMARY:UJA Super Sunday Telethon
DESCRIPTION:UJA Federation of Greater Toronto\nJewish Toronto Calendar\nhtt
 ps://jewishtoronto.com/calendar/uja-october-telethons2\n\nDetails to follo
 w. 
DTSTART;TZID=America/Toronto:20221023T100000
DTEND;TZID=America/Toronto:20221023T193000
END:VEVENT
END:VCALENDAR
