BEGIN:VCALENDAR
PRODID:-//eluceo/ical//2.0/EN
VERSION:2.0
CALSCALE:GREGORIAN
BEGIN:VEVENT
UID:d431ba46c205f3efedec632c4524eb24
DTSTAMP:20260425T222248Z
SUMMARY:UJA Telethon
DESCRIPTION:UJA Federation of Greater Toronto\nJewish Toronto Calendar\nhtt
 ps://jewishtoronto.com/calendar/uja-october-telethons\n\nTelethons
DTSTART;TZID=America/Toronto:20161005T180000
DTEND;TZID=America/Toronto:20161005T210000
END:VEVENT
END:VCALENDAR
