BEGIN:VCALENDAR
PRODID:-//eluceo/ical//2.0/EN
VERSION:2.0
CALSCALE:GREGORIAN
BEGIN:VEVENT
UID:2b49ecc2f2083347839c4928a88df827
DTSTAMP:20260421T061252Z
SUMMARY:UJA Now You Know Business and Succession Planning Part 2
DESCRIPTION:UJA Federation of Greater Toronto\nJewish Toronto Calendar\nhtt
 ps://jewishtoronto.com/calendar/uja-now-you-know-business-and-succession-p
 lanning-part-2\n\nPrivate Event 
DTSTART;TZID=America/Toronto:20200922T000000
DTEND;TZID=America/Toronto:20200922T235959
END:VEVENT
END:VCALENDAR
