BEGIN:VCALENDAR
PRODID:-//eluceo/ical//2.0/EN
VERSION:2.0
CALSCALE:GREGORIAN
BEGIN:VEVENT
UID:f79adc82ec9d454350099f7eb0ff2a28
DTSTAMP:20260424T193024Z
SUMMARY:UJA | Next Gen Signature Event
DESCRIPTION:UJA Federation of Greater Toronto\nJewish Toronto Calendar\nhtt
 ps://jewishtoronto.com/calendar/uja-next-gen-signature-event-2026\n\nUJA's
  Next Gen Signature Event. 
DTSTART;TZID=America/Toronto:20260930T000000
DTEND;TZID=America/Toronto:20260930T235959
END:VEVENT
END:VCALENDAR
