BEGIN:VCALENDAR
PRODID:-//eluceo/ical//2.0/EN
VERSION:2.0
CALSCALE:GREGORIAN
BEGIN:VEVENT
UID:4cb4b2f5d2e790f881527225bf07eeb7
DTSTAMP:20260422T052810Z
SUMMARY:UJA Newcomer Job Fair 2.0
DESCRIPTION:UJA Federation of Greater Toronto\nJewish Toronto Calendar\nhtt
 ps://jewishtoronto.com/calendar/uja-newcomer-job-fair-20\n\nUJA Newcomer J
 ob Fair 2.0
DTSTART;TZID=America/Toronto:20230427T100000
DTEND;TZID=America/Toronto:20230427T130000
END:VEVENT
END:VCALENDAR
