BEGIN:VCALENDAR
PRODID:-//eluceo/ical//2.0/EN
VERSION:2.0
CALSCALE:GREGORIAN
BEGIN:VEVENT
UID:27c8d0ea3ba7a000dd967a8ec117affd
DTSTAMP:20260422T222329Z
SUMMARY:UJA | New Lawyers Welcome
DESCRIPTION:UJA Federation of Greater Toronto\nJewish Toronto Calendar\nhtt
 ps://jewishtoronto.com/calendar/uja-new-lawyers-welcome2025\n\nUJA New Law
 yers Welcome. 
DTSTART;TZID=America/Toronto:20250929T173000
DTEND;TZID=America/Toronto:20250929T203000
END:VEVENT
END:VCALENDAR
