BEGIN:VCALENDAR
PRODID:-//eluceo/ical//2.0/EN
VERSION:2.0
CALSCALE:GREGORIAN
BEGIN:VEVENT
UID:8d0475ee6298abdca5799ea8743233f0
DTSTAMP:20260421T155420Z
SUMMARY:UJA - New Chairs Mission (TBC)
DESCRIPTION:UJA Federation of Greater Toronto\nJewish Toronto Calendar\nhtt
 ps://jewishtoronto.com/calendar/uja-new-chairs-mission\n\nUJA New Chairs 
 Mission (TBC)
DTSTART;TZID=America/Toronto:20170205T000000
DTEND;TZID=America/Toronto:20170209T235500
END:VEVENT
END:VCALENDAR
