BEGIN:VCALENDAR
PRODID:-//eluceo/ical//2.0/EN
VERSION:2.0
CALSCALE:GREGORIAN
BEGIN:VEVENT
UID:cbda57541ef73df2529cfa1d17b47d9f
DTSTAMP:20260422T110716Z
SUMMARY:UJA Mittens for Mitzvah
DESCRIPTION:UJA Federation of Greater Toronto\nJewish Toronto Calendar\nhtt
 ps://jewishtoronto.com/calendar/uja-mittens-for-mitzvah-1574358106\n\nMitt
 ens for Mitzvahs is a great hands-on opportunity for you to give back to t
 he community!\n\nTogether with Jewish Family and Child Services\, we will 
 pack winter clothing kits for kids in need and help contribute to the 2019
  Drive for Dreidels.\n \nIn lieu of a registration fee\, please arrive wi
 th a $25 gift card\, which will go to an older child.\nLet's help kids sta
 y cozy and have a Happy Hanukkah!\n \nSunday\, December 8\, 2019\n4:00 - 
 6:00pm\nCongregation Habonim Toronto\nDinner & sufgani...
DTSTART;TZID=America/Toronto:20191208T160000
DTEND;TZID=America/Toronto:20191208T180000
END:VEVENT
END:VCALENDAR
