BEGIN:VCALENDAR
PRODID:-//eluceo/ical//2.0/EN
VERSION:2.0
CALSCALE:GREGORIAN
BEGIN:VEVENT
UID:e1353a7508a14b2e91f6b672b96608e7
DTSTAMP:20260420T101548Z
SUMMARY:UJA & CJE: Mental Health Empowerment Day - Resilience During Covid-
 19
DESCRIPTION:UJA Federation of Greater Toronto\nJewish Toronto Calendar\nhtt
 ps://jewishtoronto.com/calendar/uja-mental-health-empowerment-daycje\n\nJo
 in Canadian Friends of Tel Aviv University\, Mental Health Empowerment Day
  and UJA Federation for an interactive discussion on Resilience during COV
 ID-19: from Crisis to Opportunity with Dr. Adini Wisel Bruria\, head of th
 e Department of Emergency Management and Disaster Medicine in the School o
 f Public Health at Tel Aviv University.
DTSTART;TZID=America/Toronto:20210207T100000
DTEND;TZID=America/Toronto:20210207T113000
END:VEVENT
END:VCALENDAR
