BEGIN:VCALENDAR
PRODID:-//eluceo/ical//2.0/EN
VERSION:2.0
CALSCALE:GREGORIAN
BEGIN:VEVENT
UID:1cacc338f97d36bf62989c59b0d0bb87
DTSTAMP:20260421T080918Z
SUMMARY:UJA March of the Living High School Info Night
DESCRIPTION:UJA Federation of Greater Toronto\nJewish Toronto Calendar\nhtt
 ps://jewishtoronto.com/calendar/uja-march-of-the-living-high-school-info-n
 ight\n\nUJA March of the Living High School Info Night. Details to follow.
  
DTSTART;TZID=America/Toronto:20230921T183000
DTEND;TZID=America/Toronto:20230921T200000
END:VEVENT
END:VCALENDAR
