BEGIN:VCALENDAR
PRODID:-//eluceo/ical//2.0/EN
VERSION:2.0
CALSCALE:GREGORIAN
BEGIN:VEVENT
UID:9e900cf86d27a6f2b4d4452b7e23fea5
DTSTAMP:20260419T213305Z
SUMMARY:UJA Major Gifts Signature Ball
DESCRIPTION:UJA Federation of Greater Toronto\nJewish Toronto Calendar\nhtt
 ps://jewishtoronto.com/calendar/uja-major-gifts-signature-ball-1562610630\
 n\nUJA Major Gifts Signature Ball - By Invitation Only
DTSTART;TZID=America/Toronto:20191114T170000
DTEND;TZID=America/Toronto:20191114T220000
END:VEVENT
END:VCALENDAR
