BEGIN:VCALENDAR
PRODID:-//eluceo/ical//2.0/EN
VERSION:2.0
CALSCALE:GREGORIAN
BEGIN:VEVENT
UID:a09ce27f34f511c0a4b4eb827761040b
DTSTAMP:20260421T192308Z
SUMMARY:UJA Major Gifts Invitation of Invitations
DESCRIPTION:UJA Federation of Greater Toronto\nJewish Toronto Calendar\nhtt
 ps://jewishtoronto.com/calendar/uja-major-gifts-invitation-of-invitations-
 1505421142\n\nPrivate Event
DTSTART;TZID=America/Toronto:20180705T180000
DTEND;TZID=America/Toronto:20180705T200000
END:VEVENT
END:VCALENDAR
