BEGIN:VCALENDAR
PRODID:-//eluceo/ical//2.0/EN
VERSION:2.0
CALSCALE:GREGORIAN
BEGIN:VEVENT
UID:7aeab4d5cd2c550f84250ea342d3796a
DTSTAMP:20260420T153035Z
SUMMARY:UJA Major Gifts Virtual Event
DESCRIPTION:UJA Federation of Greater Toronto\nJewish Toronto Calendar\nhtt
 ps://jewishtoronto.com/calendar/uja-major-gifts-event\n\ndetails to follow
  
DTSTART;TZID=America/Toronto:20201208T193000
DTEND;TZID=America/Toronto:20201208T203000
END:VEVENT
END:VCALENDAR
