BEGIN:VCALENDAR
PRODID:-//eluceo/ical//2.0/EN
VERSION:2.0
CALSCALE:GREGORIAN
BEGIN:VEVENT
UID:9b2927367129d4a7f2f51aa87ce719e0
DTSTAMP:20260425T174324Z
SUMMARY:UJA - Major Gifts Dinner
DESCRIPTION:UJA Federation of Greater Toronto\nJewish Toronto Calendar\nhtt
 ps://jewishtoronto.com/calendar/uja-major-gifts-dinner1\n\nThis event is b
 y invitation only.
DTSTART;TZID=America/Toronto:20171023T173000
DTEND;TZID=America/Toronto:20171023T210000
END:VEVENT
END:VCALENDAR
