BEGIN:VCALENDAR
PRODID:-//eluceo/ical//2.0/EN
VERSION:2.0
CALSCALE:GREGORIAN
BEGIN:VEVENT
UID:267cad04e38b68cabf6e7bccb0b459a1
DTSTAMP:20260421T134557Z
SUMMARY:UJA Major Gifts: Case for Giving Briefing
DESCRIPTION:UJA Federation of Greater Toronto\nJewish Toronto Calendar\nhtt
 ps://jewishtoronto.com/calendar/uja-major-gifts-case-for-giving-briefing\n
 \nThis is a private event. Details to follow. 
DTSTART;TZID=America/Toronto:20220509T000000
DTEND;TZID=America/Toronto:20220509T235959
END:VEVENT
END:VCALENDAR
